BEGIN:VCALENDAR
VERSION:2.0
PRODID:-//The New Jersey School of Conservation - ECPv6.15.20//NONSGML v1.0//EN
CALSCALE:GREGORIAN
METHOD:PUBLISH
X-WR-CALNAME:The New Jersey School of Conservation
X-ORIGINAL-URL:https://njsoc.org
X-WR-CALDESC:Events for The New Jersey School of Conservation
REFRESH-INTERVAL;VALUE=DURATION:PT1H
X-Robots-Tag:noindex
X-PUBLISHED-TTL:PT1H
BEGIN:VTIMEZONE
TZID:America/New_York
BEGIN:DAYLIGHT
TZOFFSETFROM:-0500
TZOFFSETTO:-0400
TZNAME:EDT
DTSTART:20220313T070000
END:DAYLIGHT
BEGIN:STANDARD
TZOFFSETFROM:-0400
TZOFFSETTO:-0500
TZNAME:EST
DTSTART:20221106T060000
END:STANDARD
BEGIN:DAYLIGHT
TZOFFSETFROM:-0500
TZOFFSETTO:-0400
TZNAME:EDT
DTSTART:20230312T070000
END:DAYLIGHT
BEGIN:STANDARD
TZOFFSETFROM:-0400
TZOFFSETTO:-0500
TZNAME:EST
DTSTART:20231105T060000
END:STANDARD
BEGIN:DAYLIGHT
TZOFFSETFROM:-0500
TZOFFSETTO:-0400
TZNAME:EDT
DTSTART:20240310T070000
END:DAYLIGHT
BEGIN:STANDARD
TZOFFSETFROM:-0400
TZOFFSETTO:-0500
TZNAME:EST
DTSTART:20241103T060000
END:STANDARD
END:VTIMEZONE
BEGIN:VEVENT
DTSTART;TZID=America/New_York:20230930T100000
DTEND;TZID=America/New_York:20231007T121500
DTSTAMP:20260421T065220
CREATED:20230922T015247Z
LAST-MODIFIED:20231006T161737Z
UID:7315-1696068000-1696680900@njsoc.org
SUMMARY:Last Call  Archery Course (2 Sessions) for  Adults and Children (ages  8 +)
DESCRIPTION:10/6/23: POSTPONED TO SUNDAY\, OCTOBER 8th\nIt’s our last archery class of the year!!\n\n\nYou pull back the bowstring. You stare downrange at the bullseye. Release! The arrow flies away and plunges into the target. Bullseye! \nJoin the fun! Participants will be taught by USA Archery certified instructors and past PA state champions. We will have you flinging arrows in no time. Be advised\, archery is great fun and habit-forming! No experience or equipment necessary! \nThis workshop series is open to adults and children(ages 8 and up). This course offers all the content of our regular three-session course in two sessions with extended classes (and fewer trips into the forest for you!). \nClasses meet on Saturday\, September 30th and Saturday\, October 7th at these times:  \n\nChildren (ages 8-14): 10 am – 11:30 am \nAdults: 10 am – 12:15 pm \n\nEach Saturday class will include both instruction and supervised open shooting practice time. Participants who complete the program will be able to easily transition into any archery program. \nIf you have any difficulty with the registration process\, please let us know so we can help! Contact us at info@njsoc.org. \nPlease note: Children must be accompanied by an adult. Pets are not allowed on the NJ School of Conservation Campus. \nRefund Policy/Inclement Weather: \nYour event fee\, minus Eventbrite Fees\, is fully refundable if cancelled 7 or more days before the event. In the case of a multi-day event\, you must cancel 7 or more days before the first day of the event. Registration fees are not adjusted and no partial refunds are given if you cannot attend all days of the event. \nWhile we appreciate being notified if you are unable to attend an event\, refunds are not given for cancellations within 7 days of the event. \nIn the event of inclement weather\, participants will be notified if a session will not be held as scheduled. A session cancelled due to bad weather will be made up by adding time to the following session. \nIf we must cancel an event\, your registration fee\, including Eventbrite fees\, will be refunded.
URL:https://njsoc.org/event/last-call-archery-course-2-sessions-for-adults-and-children-ages-8/
LOCATION:NJ School of Conservation\, 1 Wapalanne Road\, Sandyston\, 07826\, United States
ATTACH;FMTTYPE=image/jpeg:https://njsoc.org/wp-content/uploads/2023/09/e5b5db773345a95b339a8978fbf4079a-I1tYiG.tmp_.jpg
END:VEVENT
BEGIN:VEVENT
DTSTART;TZID=America/New_York:20231007T100000
DTEND;TZID=America/New_York:20231007T120000
DTSTAMP:20260421T065220
CREATED:20230821T125310Z
LAST-MODIFIED:20231006T161835Z
UID:7108-1696672800-1696680000@njsoc.org
SUMMARY:Junior Birders (Ages 10-14)
DESCRIPTION:POSTPONED DUE TO RAIN. WATCH FOR NEW DATE!\nHey there\, bird fans! Join us for Junior Birders\, a fun event where we’ll explore the fascinating world of our feathered friends.\n\n\nDo you love wildlife? Have you ever wondered about the birds in your backyard that you see and hear every day? Get to know your neighborhood birds! In addition to learning the biology\, aesthetic\, and recreational values associated with birds\, we’ll also learn to identify species by sight and sound. Come see how many birds you can find! \nDuring this program\, Junior Birders will complete an “All About Birds” scavenger hunt and a “Binocular Challenge” on a mile-long hike through the NJ School of Conservation campus. Junior Birders will also learn bird calls by being part of a bird chorus and how to attract feathered friends with backyard bird feeders. \nThis program is designed for Junior Birders ages 10-14. All participants must be accompanied by an adult. Loaner binoculars will be provided. \nRefund Policy: \nYour event fee\, minus Eventbrite Fees\, is fully refundable if cancelled 7 or more days before the event. No partial refunds are given if you cannot attend all days of the event. While we appreciate being notified if you are unable to attend an event\, refunds are not given for cancellations within 7 days of the event. \nIf we must cancel an event\, your registration fee\, including Eventbrite fees\, will be refunded.
URL:https://njsoc.org/event/junior-birders-ages-10-14/
LOCATION:NJ School of Conservation\, 1 Wapalanne Road\, Sandyston\, 07826\, United States
ATTACH;FMTTYPE=image/jpeg:https://njsoc.org/wp-content/uploads/2023/08/c0f89130cfd0c05c1154c6d0419f9623-KqeGWP.tmp_.jpg
END:VEVENT
BEGIN:VEVENT
DTSTART;TZID=America/New_York:20231007T110000
DTEND;TZID=America/New_York:20231007T123000
DTSTAMP:20260421T065220
CREATED:20230202T015603Z
LAST-MODIFIED:20231006T161641Z
UID:6078-1696676400-1696681800@njsoc.org
SUMMARY:Autumn Wild Edibles Information Walk
DESCRIPTION:10/6/23: POSTPONED TO SUNDAY\, OCTOBER 8th\nWild edibles: nutrition\, gastronomy\, survival and fun science\n\n\nJumpstart a foraging habit for your soups\, stews\, salads\, pestos and fritters! Your program leader\, Joanne White\, will lead you on a walk to discuss and photograph whatever is available in woods and meadow-like areas. Although this is not an eating event\, lots of follow-up information will be available including an email with photos and descriptions of items covered on the walk. There will be references to dichotomous keys\, books\, nutrition\, safety\, ethics\, gastronomy\, survival and fun science. Joanne is a former science teacher with over 40 years of teaching experience\, and decades of enjoying wild edibles. \nThis program is for adults and older teens (age 16 and up). Registration is REQUIRED. Please dress for the weather\, with rain gear or an umbrella in case of light rain. You will need your camera (or phone)! Heavy rain will postpone event to Sunday\, October 8th. \nPlease note: No pets are allowed on the NJ School of Conservation Campus. \nRefund Policy: Your event fee\, minus Eventbrite Fees\, is fully refundable if cancelled 7 or more days before the event. In the case of a multi-day event\, you must cancel 7 or more days before the first day of the event. No partial refunds are given if you cannot attend all days of the event. While we appreciate being notified if you are unable to attend an event\, refunds are not given for cancellations within 7 days of the event. \nFor events that are weather-dependent\, a raindate/reschedule date is included in the event description. We do not offer refunds if an event is rescheduled for the specified date. The raindate for this event is Sunday\, October 8th. If we must cancel an event\, your registration fee\, including Eventbrite fees\, will be refunded.
URL:https://njsoc.org/event/autumn-wild-edibles-information-walk/
LOCATION:NJ School of Conservation\, 1 Wapalanne Road\, Sandyston\, 07826\, United States
ATTACH;FMTTYPE=image/jpeg:https://njsoc.org/wp-content/uploads/2023/08/b450b2bfdb7b0747675a830ebcc9b0c2-odc6mA.tmp_.jpg
END:VEVENT
BEGIN:VEVENT
DTSTART;TZID=America/New_York:20231007T110000
DTEND;TZID=America/New_York:20231007T150000
DTSTAMP:20260421T065220
CREATED:20230202T015603Z
LAST-MODIFIED:20231005T153742Z
UID:6079-1696676400-1696690800@njsoc.org
SUMMARY:Rustic Bread Baking
DESCRIPTION:10/5/23: THIS PROGRAM IS ON\, DESPITE THE RAIN. PLEASE DRESS FOR THE WEATHER– RAINCOAT & BOOTS– AND DON’T FORGET YOUR SUPPLIES.\nExplore a hands-on experience in bread baking in an outdoor\, wood fired oven!\n\n\nWarm homemade bread\, fresh out of the oven\, is a sumptuous culinary repast! Try this hands-on experience in rustic bread baking and you can learn how an outdoor wood fired oven works\, and bring home your own loaf to share (or not!). \nThis workshop begins by following a Rustic Yeasted Bread recipe that will be kneaded and coaxed into a loving loaf of bread that will be baked in an outdoor\, wood fired oven. During the rising time\, participants will collectively make a bakers’ snack. \nEvery baking experience in the outdoor oven is unique! Feeding the fire\, heating the interior of the oven high enough for quick bakers’ snack and stepping the temperature down for the bread baking has its challenges. We will share with you how it all works and keep our fingers crossed for a great bake day! \nThis workshop is open to individual adults\, couples\, and to children (ages 11 and up) with an adult partner. Each participant/pair will prepare and bake one loaf of bread to take home at the end of the session. \nPlease note: We will ask registered participants to bring an apron\, large mixing bowl\, 1-2 oven mitts\, a large\, clean dish towel\, zip lock bag\, and a large paper bag (to carry bread home). \nOptional\, but helpful: while a seasoned 8″” up to an 11″” cast iron skillet will be provided you may bring your own to bake in (no enamel). \nA little about your instructors: \nSusan\, is a licensed mental health counselor\, a former nutrition educator at family childcare homes\, and enjoyed demonstrating cooking and baking using a wood burning stove at an outdoor ethnic history museum. Robin\, a retired earth science teacher\, taught middle school students the art and science of bread baking. \nPLEASE NOTE: Pets are not permitted on the NJSOC Campus. \nRefund Policy: \nYour event fee\, minus Eventbrite Fees\, is fully refundable if cancelled 7 or more days before the event. In the case of a multi-day event\, you must cancel 7 or more days before the first day of the event. No partial refunds are given if you cannot attend all days of the event. While we appreciate being notified if you are unable to attend an event\, refunds are not given for cancellations within 7 days of the event. \nFor events that are weather-dependent\, a raindate/reschedule date is included in the event description. We do not offer refunds if an event is rescheduled for the specified date. If we must cancel an event\, your registration fee\, including Eventbrite fees\, will be refunded. \n\n\n\nWood-fired outdoor oven for bread baking.
URL:https://njsoc.org/event/rustic-bread-baking-2/
LOCATION:NJ School of Conservation\, 1 Wapalanne Road\, Sandyston\, 07826\, United States
ATTACH;FMTTYPE=image/jpeg:https://njsoc.org/wp-content/uploads/2023/07/545b570fd18a8d45e9ab84e5f2fd7975-GuMAXQ.tmp_.jpg
END:VEVENT
BEGIN:VEVENT
DTSTART;TZID=America/New_York:20231016T090000
DTEND;TZID=America/New_York:20231016T163000
DTSTAMP:20260421T065220
CREATED:20230428T132818Z
LAST-MODIFIED:20230531T180058Z
UID:6264-1697446800-1697473800@njsoc.org
SUMMARY:Educators' Open House
DESCRIPTION:Spend a day at the NJ School of Conservation learning about the outdoor field experiences we have to offer to you and your students.\n\n\nWe’ll highlight upcoming professional development workshops\, online resources and volunteer opportunities. Then\, you’ll get to “be a student for the day” and participate in several of our most popular field experiences\, learn how they support New Jersey’s student learning standards\, including the new Climate Change standards and Social Emotional Learning Competencies\, and find out how you can continue to build on the experience back at your own school. Classes will include Nature Art & Poetry (with climate change emphasis)\, Metalsmithing\, Water Ecology\, and Archery. \nThe Open House will also include opportunities for networking\, smore-making and lots of fun! Earn up to 7.5 hours of professional development. Lunch is included. \nYour $20 ticket fee is a deposit. After attending the event\, you will receive a full refund.
URL:https://njsoc.org/event/educators-open-house-2/
LOCATION:NJ School of Conservation\, 1 Wapalanne Road\, Sandyston\, 07826\, United States
CATEGORIES:Educator Events
ATTACH;FMTTYPE=image/jpeg:https://njsoc.org/wp-content/uploads/2023/04/b9757f295f847c6ed65644e19f4971e1-RKQ0PV.tmp_.jpg
END:VEVENT
BEGIN:VEVENT
DTSTART;TZID=America/New_York:20231028T190000
DTEND;TZID=America/New_York:20231028T210000
DTSTAMP:20260421T065220
CREATED:20230822T020303Z
LAST-MODIFIED:20231021T182132Z
UID:7112-1698519600-1698526800@njsoc.org
SUMMARY:SOC After Dark
DESCRIPTION:Fall is the perfect time for stories around the campfire. And that’s just the beginning!\n\n\nFall is the perfect time to gather around the campfire with friends for some not-too-scary stories. Popular storyteller Ken Karnas will be our featured speaker at this Pre-Halloween event. Throughout his 42-year teaching career\, Ken used stories to enhance every academic area he taught. In addition to using storytelling in the classroom\, Ken has shared his tales with audiences of all ages in libraries\, museums\, parks\, and at NJSOC’s Piney Point fire circle.  \nFollowing the storytelling\, you’re invited to join us for a not-at-all-scary night hike. Discover the beauty of Stokes State Forest by moonlight and learn about some of its residents who are active at night on this easy hike along an open path.  \nOr\, if you prefer\, bring some marshmallows and hang out at the campfire\, or head over to the corral for some stargazing on your own.  \nCome just for the campfire and stories (about 30-40 minutes)\, or stay longer and enjoy the SOC “nightlife”.  It’s up to you! \nThis program is open to adults and families with children of any age. Children must be accompanied by an adult. Registration is required for each individual. In case of inclement weather\, we’ll move  the storytelling indoors and hike as planned as long as the rain isn’t heavy.  \nIf you have any difficulty with the registration process\, please let us know so we can help! Contact us at info@njsoc.org.  \nRefund Policy/Inclement Weather: \nYour event fee\, minus Eventbrite Fees\, is fully refundable if cancelled 7 or more days before the event. While we appreciate being notified if you are unable to attend an event\, refunds are not given for cancellations within 7 days of the event.   \nIf we must cancel an event\, your registration fee\, including Eventbrite fees\, will be refunded.
URL:https://njsoc.org/event/soc-after-dark/
LOCATION:NJ School of Conservation\, 1 Wapalanne Road\, Sandyston\, 07826\, United States
ATTACH;FMTTYPE=image/jpeg:https://njsoc.org/wp-content/uploads/2023/08/b2222468384b18e9b8a6ce410ac7d491-TplELh.tmp_.jpg
END:VEVENT
END:VCALENDAR