BEGIN:VCALENDAR
VERSION:2.0
PRODID:-//The New Jersey School of Conservation - ECPv6.15.20//NONSGML v1.0//EN
CALSCALE:GREGORIAN
METHOD:PUBLISH
X-WR-CALNAME:The New Jersey School of Conservation
X-ORIGINAL-URL:https://njsoc.org
X-WR-CALDESC:Events for The New Jersey School of Conservation
REFRESH-INTERVAL;VALUE=DURATION:PT1H
X-Robots-Tag:noindex
X-PUBLISHED-TTL:PT1H
BEGIN:VTIMEZONE
TZID:America/New_York
BEGIN:DAYLIGHT
TZOFFSETFROM:-0500
TZOFFSETTO:-0400
TZNAME:EDT
DTSTART:20220313T070000
END:DAYLIGHT
BEGIN:STANDARD
TZOFFSETFROM:-0400
TZOFFSETTO:-0500
TZNAME:EST
DTSTART:20221106T060000
END:STANDARD
BEGIN:DAYLIGHT
TZOFFSETFROM:-0500
TZOFFSETTO:-0400
TZNAME:EDT
DTSTART:20230312T070000
END:DAYLIGHT
BEGIN:STANDARD
TZOFFSETFROM:-0400
TZOFFSETTO:-0500
TZNAME:EST
DTSTART:20231105T060000
END:STANDARD
BEGIN:DAYLIGHT
TZOFFSETFROM:-0500
TZOFFSETTO:-0400
TZNAME:EDT
DTSTART:20240310T070000
END:DAYLIGHT
BEGIN:STANDARD
TZOFFSETFROM:-0400
TZOFFSETTO:-0500
TZNAME:EST
DTSTART:20241103T060000
END:STANDARD
END:VTIMEZONE
BEGIN:VEVENT
DTSTART;TZID=America/New_York:20230826T130000
DTEND;TZID=America/New_York:20230826T150000
DTSTAMP:20260422T041047
CREATED:20230816T160031Z
LAST-MODIFIED:20230816T160031Z
UID:6903-1693054800-1693062000@njsoc.org
SUMMARY:Explore Archery! for  Children and Adults (ages  8+)
DESCRIPTION:You pull back the bowstring. You stare downrange at the bullseye. Release! The arrow flies away and plunges into the target. Bullseye!\n\n\nJoin the fun! Participants will be taught by USA Archery certified instructors. The class will include basic archery skills\, fun drills\, and archery games. We will have you flinging arrows in no time. Be advised\, archery is great fun and habit-forming! No experience necessary. \nRuth and John Goralski are Level 3 Instructor/Trainers with USA Archery. They are also past PA state champions. \nThis workshop is open to adults\, and children\, age 8 and over.  In case of rain\, the event will be postponed to Sunday\, August 27th and participants will be notified via email. Plan to keep both dates open! \nIf you have any difficulty with the registration process\, please let us know so we can help! Contact us at info@njsoc.org. You will receive an immediate confirmation email when your registration is successful. \nPlease note: Children must be accompanied by an adult. Pets are not allowed on the NJ School of Conservation Campus. \nRefund Policy/Inclement Weather: \nYour event fee\, minus Eventbrite Fees\, is fully refundable if cancelled 7 or more days before the event. In the case of a multi-day event\, you must cancel 7 or more days before the first day of the event. Registration fees are not adjusted and no partial refunds are given if you cannot attend all days of the event.  \nWhile we appreciate being notified if you are unable to attend an event\, refunds are not given for cancellations within 7 days of the event.   \nIn the event of inclement weather\, participants will be notified if a session will not be held as scheduled. The rain date for this session is Sunday\, August 26th.  \nIf we must cancel an event\, your registration fee\, including Eventbrite fees\, will be refunded.
URL:https://njsoc.org/event/explore-archery-for-children-and-adults-ages-8/
LOCATION:NJ School of Conservation\, 1 Wapalanne Road\, Sandyston\, 07826\, United States
ATTACH;FMTTYPE=image/jpeg:https://njsoc.org/wp-content/uploads/2023/08/090ff60fd3fd9c8added60ee7e533871-mQRI1k.tmp_.jpg
END:VEVENT
END:VCALENDAR